BEGIN:VCALENDAR
VERSION:2.0
PRODID:-//Utah Pagan Market - ECPv6.15.14//NONSGML v1.0//EN
CALSCALE:GREGORIAN
METHOD:PUBLISH
X-WR-CALNAME:Utah Pagan Market
X-ORIGINAL-URL:https://unitedpaganmarket.com
X-WR-CALDESC:Events for Utah Pagan Market
REFRESH-INTERVAL;VALUE=DURATION:PT1H
X-Robots-Tag:noindex
X-PUBLISHED-TTL:PT1H
BEGIN:VTIMEZONE
TZID:America/Denver
BEGIN:DAYLIGHT
TZOFFSETFROM:-0700
TZOFFSETTO:-0600
TZNAME:MDT
DTSTART:20250309T090000
END:DAYLIGHT
BEGIN:STANDARD
TZOFFSETFROM:-0600
TZOFFSETTO:-0700
TZNAME:MST
DTSTART:20251102T080000
END:STANDARD
BEGIN:DAYLIGHT
TZOFFSETFROM:-0700
TZOFFSETTO:-0600
TZNAME:MDT
DTSTART:20260308T090000
END:DAYLIGHT
BEGIN:STANDARD
TZOFFSETFROM:-0600
TZOFFSETTO:-0700
TZNAME:MST
DTSTART:20261101T080000
END:STANDARD
BEGIN:DAYLIGHT
TZOFFSETFROM:-0700
TZOFFSETTO:-0600
TZNAME:MDT
DTSTART:20270314T090000
END:DAYLIGHT
BEGIN:STANDARD
TZOFFSETFROM:-0600
TZOFFSETTO:-0700
TZNAME:MST
DTSTART:20271107T080000
END:STANDARD
END:VTIMEZONE
BEGIN:VEVENT
DTSTART;TZID=America/Denver:20260222T110000
DTEND;TZID=America/Denver:20260222T160000
DTSTAMP:20260115T020732
CREATED:20251211T212434Z
LAST-MODIFIED:20251211T212548Z
UID:10000176-1771758000-1771776000@unitedpaganmarket.com
SUMMARY:OGDEN - Last Frost Market - Feb 22 26
DESCRIPTION:Ogden Location:  11am – 4pm\, Copper Nickel Events – 2450 Grant Ave\, Ogden\, UT 84401 \nFREE TO ATTEND \nWhat’s happening at this market? \n\nRitual/Tradition: 11:00am – Pagan Sunday Service\nCoffee\, Brunch\, Refreshments: Food Truck TBA\nHarvest & Exchange Table\n“Witch-Craft” Of The Month – TBA\nReaders: TBA\nVendors: TBA\n\nCheck out our event on Facebook for the most up to date info!
URL:https://unitedpaganmarket.com/event/ogden-last-frost-market-feb-22-26/
LOCATION:Copper Nickel Events\, 2450 Grant Avenue\, Ogden\, Utah\, 84401\, United States
ATTACH;FMTTYPE=image/png:https://unitedpaganmarket.com/wp-content/uploads/2025/12/Event-Backgrounds-FEB-OGD_5-1.png
ORGANIZER;CN="Utah Pagan Market":MAILTO:info@utahpaganmarket.com
END:VEVENT
BEGIN:VEVENT
DTSTART;TZID=America/Denver:20260222T110000
DTEND;TZID=America/Denver:20260222T160000
DTSTAMP:20260115T020732
CREATED:20251211T215910Z
LAST-MODIFIED:20251211T215910Z
UID:10000179-1771758000-1771776000@unitedpaganmarket.com
SUMMARY:MURRAY - Last Frost Market - FEB 22 26
DESCRIPTION:Murray Location: *NEW VENUE* 11am – 4pm\, Murray Armory – 246 E Myrtle Ave\, Murray\, UT\, 84107 \nFREE TO ATTEND \nWhat’s happening at this market? \n\nRitual/Tradition: 11:00am – Pagan Sunday Service\nCoffee\, Brunch\, Refreshments: Food Truck TBA\nHarvest & Exchange Table\n“Witch-Craft” Of The Month – TBA\nReaders: TBA\nVendors: TBA\n\nCheck out our event on Facebook for the most up to date info! \n 
URL:https://unitedpaganmarket.com/event/murray-last-frost-market-feb-22-26/
LOCATION:Murray Armory\, 246 E Myrtle Ave\, Murray\, UT\, 84107\, United States
ATTACH;FMTTYPE=image/png:https://unitedpaganmarket.com/wp-content/uploads/2025/12/Event-Backgrounds-FEB-MURRAY_1.png
ORGANIZER;CN="Utah Pagan Market":MAILTO:info@utahpaganmarket.com
END:VEVENT
BEGIN:VEVENT
DTSTART;TZID=America/Denver:20260222T120000
DTEND;TZID=America/Denver:20260222T180000
DTSTAMP:20260115T020732
CREATED:20251211T215556Z
LAST-MODIFIED:20251211T215556Z
UID:10000178-1771761600-1771783200@unitedpaganmarket.com
SUMMARY:PROVO - Last Frost Market - Feb 22 26
DESCRIPTION:Provo Location:  12pm – 6pm\, The Wandering Wizards Co-Op Shop (Inside the Provo Mall) – 1200 Towne Centre Blvd #1128\, Provo\, UT 84601 \nFREE TO ATTEND \nWhat’s happening at this market? \n\nRitual/Tradition: 12:00pm – Pagan Sunday Service\nCoffee\, Brunch\, Refreshments: Provo Mall Food Court\nHarvest & Exchange Table\n“Witch-Craft” Of The Month – TBA\nReaders: TBA\nVendors: TBA\n\nCheck out our event on Facebook for the most up to date info!
URL:https://unitedpaganmarket.com/event/provo-last-frost-market-feb-22-26/
LOCATION:The Wandering Wizard Co Op Shop\, 1200 Towne Centre Blvd #1128\, Provo\, 84601\, United States
ATTACH;FMTTYPE=image/png:https://unitedpaganmarket.com/wp-content/uploads/2025/12/Event-Backgrounds-09.png
ORGANIZER;CN="Utah Pagan Market":MAILTO:info@utahpaganmarket.com
END:VEVENT
END:VCALENDAR