BEGIN:VCALENDAR
VERSION:2.0
PRODID:-//Utah Pagan Market - ECPv6.15.20//NONSGML v1.0//EN
CALSCALE:GREGORIAN
METHOD:PUBLISH
X-ORIGINAL-URL:https://unitedpaganmarket.com
X-WR-CALDESC:Events for Utah Pagan Market
REFRESH-INTERVAL;VALUE=DURATION:PT1H
X-Robots-Tag:noindex
X-PUBLISHED-TTL:PT1H
BEGIN:VTIMEZONE
TZID:America/Denver
BEGIN:DAYLIGHT
TZOFFSETFROM:-0700
TZOFFSETTO:-0600
TZNAME:MDT
DTSTART:20210314T090000
END:DAYLIGHT
BEGIN:STANDARD
TZOFFSETFROM:-0600
TZOFFSETTO:-0700
TZNAME:MST
DTSTART:20211107T080000
END:STANDARD
BEGIN:DAYLIGHT
TZOFFSETFROM:-0700
TZOFFSETTO:-0600
TZNAME:MDT
DTSTART:20220313T090000
END:DAYLIGHT
BEGIN:STANDARD
TZOFFSETFROM:-0600
TZOFFSETTO:-0700
TZNAME:MST
DTSTART:20221106T080000
END:STANDARD
BEGIN:DAYLIGHT
TZOFFSETFROM:-0700
TZOFFSETTO:-0600
TZNAME:MDT
DTSTART:20230312T090000
END:DAYLIGHT
BEGIN:STANDARD
TZOFFSETFROM:-0600
TZOFFSETTO:-0700
TZNAME:MST
DTSTART:20231105T080000
END:STANDARD
BEGIN:DAYLIGHT
TZOFFSETFROM:-0700
TZOFFSETTO:-0600
TZNAME:MDT
DTSTART:20240310T090000
END:DAYLIGHT
BEGIN:STANDARD
TZOFFSETFROM:-0600
TZOFFSETTO:-0700
TZNAME:MST
DTSTART:20241103T080000
END:STANDARD
BEGIN:DAYLIGHT
TZOFFSETFROM:-0700
TZOFFSETTO:-0600
TZNAME:MDT
DTSTART:20250309T090000
END:DAYLIGHT
BEGIN:STANDARD
TZOFFSETFROM:-0600
TZOFFSETTO:-0700
TZNAME:MST
DTSTART:20251102T080000
END:STANDARD
END:VTIMEZONE
BEGIN:VEVENT
DTSTART;TZID=America/Denver:20240324T110000
DTEND;TZID=America/Denver:20240324T160000
DTSTAMP:20260423T002219
CREATED:20240217T013305Z
LAST-MODIFIED:20240322T231905Z
UID:10000117-1711278000-1711296000@unitedpaganmarket.com
SUMMARY:CANCELED - Ostara Market - PLEASANT GROVE Utah Pagan Market
DESCRIPTION:EVERMORE PARK UNFORTUNATELY HAS CANCELED ALL THEIR UPCOMING EVENTS UNTIL FURTHER NOTICE WHILE THE PARK UNDERGOES ‘CONSTRUCTION’ \n\n Attention All Attendees: Important Update! \n\n\nDue to unforeseen circumstances\, our planned venue at Evermore Park for this weekend’s market has fallen through. We’ve explored all avenues to find an alternative\, but unfortunately\, we’ve come up short.\n\n\nPlease join us this Sunday (March 2024) at one of our other locations either in Ostara Market – SANDY Utah Pagan Market or Ostara Market – OGDEN Utah Pagan Market\n\n\nThank you for your understanding and flexibility. We can’t wait to see you at our future events!  #EventUpdate #CommunitySupport\n\nFREE TO ATTEND \nPleasant Grove Location: 11am-4pm @ Evermore Park’s – Vander’s Keep – 382 S Evermore Ln\, Pleasant Grove UT 84062 \nThank you to our Host: EVERMORE PARK (To schedule your event at Evermore Park go to: ) \nWhat’s happening at this market??: \n\nPagan Sunday Service: Before open market from 10am-11am by Old Ways of the Soul\nLive entertainment: TBA\nReaders: TBA\nWitch Craft: TBA\nVendors: TBA\n\n\n\n	Related
URL:https://unitedpaganmarket.com/event/ostara-market-pleasant-grove-utah-pagan-market/
LOCATION:Evermore Park\, 382 S Evermore Ln\, Pleasant Grove\, UT\, 84062\, United States
ATTACH;FMTTYPE=image/png:https://unitedpaganmarket.com/wp-content/uploads/2024/02/CANCELEDEvent-Background-Recovered-09.png
ORGANIZER;CN="Utah Pagan Market":MAILTO:info@utahpaganmarket.com
END:VEVENT
BEGIN:VEVENT
DTSTART;TZID=America/Denver:20240225T110000
DTEND;TZID=America/Denver:20240225T160000
DTSTAMP:20260423T002219
CREATED:20240216T203238Z
LAST-MODIFIED:20240216T210336Z
UID:10000114-1708858800-1708876800@unitedpaganmarket.com
SUMMARY:Lastfrost Market - PLEASANT GROVE Utah Pagan Market
DESCRIPTION:FREE TO ATTEND \nPleasant Grove Location: 11am-4pm @ Evermore Park’s – Vander’s Keep – 382 S Evermore Ln\, Pleasant Grove UT 84062 \nThank you to our Host: EVERMORE PARK (To schedule your event at Evermore Park go to: ) \nWhat’s happening at this market??: \n\nPagan Sunday Service: Before open market from 10am-11am by Old Ways of the Soul\nLive entertainment: TBA\nReaders (click on link/name for more info or to prebook your reading): TBA\nWitch Craft: TBA\nVendors: TBA\n\n\n\n	Related
URL:https://unitedpaganmarket.com/event/lastfrost-market-pleasant-grove-utah-pagan-market/
LOCATION:Evermore Park\, 382 S Evermore Ln\, Pleasant Grove\, UT\, 84062\, United States
ATTACH;FMTTYPE=image/png:https://unitedpaganmarket.com/wp-content/uploads/2024/02/Event-Background-09.png
ORGANIZER;CN="Utah Pagan Market":MAILTO:info@utahpaganmarket.com
END:VEVENT
BEGIN:VEVENT
DTSTART;TZID=America/Denver:20231217T110000
DTEND;TZID=America/Denver:20231217T160000
DTSTAMP:20260423T002219
CREATED:20231205T211315Z
LAST-MODIFIED:20231206T231459Z
UID:10000112-1702810800-1702828800@unitedpaganmarket.com
SUMMARY:Yule Market - PLEASANT GROVE Utah Pagan Market
DESCRIPTION:FREE TO ATTEND \nPleasant Grove Location: 11am-4pm @ Evermore Park’s – Vander’s Keep – 382 S Evermore Ln\, Pleasant Grove UT 84062 \nThank you to our Host: EVERMORE PARK (To schedule your event at Evermore Park go to: ) \nWhat’s happening at this market??: \n\nPagan Sunday Service: Before open market from 10am-11am by Old Ways of the Soul\nLive entertainment: TBA\nReaders (click on link/name for more info or to prebook your reading): TBA\nWitch Craft: TBA\nVendors: TBA\n\n\n\n	Related
URL:https://unitedpaganmarket.com/event/yule-market-pleasant-grove-upm/
LOCATION:Evermore Park\, 382 S Evermore Ln\, Pleasant Grove\, UT\, 84062\, United States
ATTACH;FMTTYPE=image/png:https://unitedpaganmarket.com/wp-content/uploads/2023/12/Evermore-09.png
ORGANIZER;CN="Utah Pagan Market":MAILTO:info@utahpaganmarket.com
END:VEVENT
BEGIN:VEVENT
DTSTART;TZID=America/Denver:20231029T120000
DTEND;TZID=America/Denver:20231029T190000
DTSTAMP:20260423T002219
CREATED:20230805T043136Z
LAST-MODIFIED:20231029T074715Z
UID:10000099-1698580800-1698606000@unitedpaganmarket.com
SUMMARY:Samhain Festival 2023 - Utah Pagan Market
DESCRIPTION:TICKETS CAN BE PURCHASED AT THE GATE \nVIEW SCHEDULE & MAKE RITUAL RESERVATIONS HERE \nThank you to our sponsors: Stop the Clot\, Hazelwood Collective\, Pagan Chronicle\, Old Ways of the Soul\, Utgard Kindred \nPurchase tickets here to save $ and avoid long lines on festival day! \nJoin us at Evermore Park for Samhain festivities! Trick-or-Treating\, costume & ritual wear contests\, live entertainment\, over 30 local small businesses including artisans and vendors\, food and more!! \n**Ticket INCLUDES entry to park! No additional ticket/purchase necessary. \n\n\n	Related
URL:https://unitedpaganmarket.com/event/samhain-festival-2023/
LOCATION:Evermore Park\, 382 S Evermore Ln\, Pleasant Grove\, UT\, 84062\, United States
ATTACH;FMTTYPE=image/png:https://unitedpaganmarket.com/wp-content/uploads/2023/08/samhain29.png
ORGANIZER;CN="Utah Pagan Market":MAILTO:info@utahpaganmarket.com
END:VEVENT
BEGIN:VEVENT
DTSTART;TZID=America/Denver:20230430T120000
DTEND;TZID=America/Denver:20230430T190000
DTSTAMP:20260423T002219
CREATED:20230208T215550Z
LAST-MODIFIED:20230415T150423Z
UID:10000059-1682856000-1682881200@unitedpaganmarket.com
SUMMARY:Beltane Festival 2023
DESCRIPTION:Purchase tickets here to save $ and avoid long lines on festival day! \nVIEW SCHEDULE AND MAKE RESERVATIONS – CLICK HERE  \nJoin us at Evermore Park for Beltane festivities! UTAH’S FIRST Jack in the Green Parade\, Costume & ritual wear contests\, live entertainment\, over 30 local small businesses including artisans and vendors\, food and more!! \n**Ticket INCLUDES entry to park! No additional ticket/purchase necessary. \n\n\n	Related
URL:https://unitedpaganmarket.com/event/beltane-festival-2023/
LOCATION:Evermore Park\, 382 S Evermore Ln\, Pleasant Grove\, UT\, 84062\, United States
ATTACH;FMTTYPE=image/png:https://unitedpaganmarket.com/wp-content/uploads/2023/02/Beltane-Ad-Square-01.png
ORGANIZER;CN="Utah Pagan Market":MAILTO:info@utahpaganmarket.com
END:VEVENT
BEGIN:VEVENT
DTSTART;TZID=America/Denver:20221030T100000
DTEND;TZID=America/Denver:20221030T220000
DTSTAMP:20260423T002219
CREATED:20220714T214140Z
LAST-MODIFIED:20221030T113930Z
UID:10000056-1667124000-1667167200@unitedpaganmarket.com
SUMMARY:Samhain Festival 2022
DESCRIPTION:PURCHASE TICKETS AT THE GATE TODAY! Online ticket sales for this event have ended. \nVIEW SCHEDULE AND MAKE RESERVATIONS – CLICK HERE  \nJoin us at Evermore Park for Samhain festivities! Costume contests\, trick-or-treating\, live entertainment\, over 30 local small businesses including artisans and vendors\, food and more!! \n**Ticket INCLUDES entry to park! No additional ticket/purchase necessary. \n\n\n	Related
URL:https://unitedpaganmarket.com/event/samhain-festival-evermore-park/
LOCATION:Evermore Park\, 382 S Evermore Ln\, Pleasant Grove\, UT\, 84062\, United States
ATTACH;FMTTYPE=image/png:https://unitedpaganmarket.com/wp-content/uploads/2022/07/Social-Media-Post-Teaser-01-1.png
ORGANIZER;CN="Utah Pagan Market":MAILTO:info@utahpaganmarket.com
END:VEVENT
END:VCALENDAR